BEGIN:VCALENDAR
PRODID:-//Microsoft Corporation//Outlook 11.0 MIMEDIR//EN
VERSION:2.0
METHOD:PUBLISH
BEGIN:VEVENT
UID:a7b7e7eff263730dba01e94692f3a174@http://tportal.tomas.travel/biosphaerengebietschwarzwald/event/ics/2783272/302254708
DTSTAMP:20260424T115016Z
DTSTART:20260430T140000
DTEND:20261029T140000
LOCATION: Schönau
SUMMARY:Geführte Mountainbike-Tour
END:VEVENT
END:VCALENDAR