BEGIN:VCALENDAR
PRODID:-//Microsoft Corporation//Outlook 11.0 MIMEDIR//EN
VERSION:2.0
METHOD:PUBLISH
BEGIN:VEVENT
UID:95963e955347f57b9a60417464581c06@http://tportal.tomas.travel/biosphaerengebietschwarzwald/event/ics/2776474/301881625
DTSTAMP:20260422T084850Z
DTSTART:20260507T160000
DTEND:20260924T180000
LOCATION: Schönau
SUMMARY:Heimatmuseum Klösterle
END:VEVENT
END:VCALENDAR