BEGIN:VCALENDAR
PRODID:-//Microsoft Corporation//Outlook 11.0 MIMEDIR//EN
VERSION:2.0
METHOD:PUBLISH
BEGIN:VEVENT
UID:18a386d939a69353465c984d34cb90f3@http://tportal.tomas.travel/biosphaerengebietschwarzwald/event/ics/2776474/2026-05-14
DTSTAMP:20260421T205134Z
DTSTART:20260514T160000
DTEND:20260514T180000
LOCATION: Schönau
SUMMARY:Heimatmuseum Klösterle
END:VEVENT
END:VCALENDAR