BEGIN:VCALENDAR
PRODID:-//Microsoft Corporation//Outlook 11.0 MIMEDIR//EN
VERSION:2.0
METHOD:PUBLISH
BEGIN:VEVENT
UID:d428254241e3c0d696d5244f8a861930@http://tportal.tomas.travel/biosphaerengebietschwarzwald/event/ics/2776355/301154299
DTSTAMP:20260420T141858Z
DTSTART:20260420T183000
DTEND:20261221T193000
LOCATION: Schönau
SUMMARY:HIIT-Kurs mit Ramona
END:VEVENT
END:VCALENDAR