BEGIN:VCALENDAR
PRODID:-//Microsoft Corporation//Outlook 11.0 MIMEDIR//EN
VERSION:2.0
METHOD:PUBLISH
BEGIN:VEVENT
UID:1fd71a74fd3f447a781c5949272aad0b@http://tportal.tomas.travel/biosphaerengebietschwarzwald/event/ics/2776355/2026-05-14
DTSTAMP:20260424T132905Z
DTSTART:20260514T183000
DTEND:20260514T193000
LOCATION: Schönau
SUMMARY:HIIT-Kurs mit Ramona
END:VEVENT
END:VCALENDAR