BEGIN:VCALENDAR
PRODID:-//Microsoft Corporation//Outlook 11.0 MIMEDIR//EN
VERSION:2.0
METHOD:PUBLISH
BEGIN:VEVENT
UID:88128a0a184e5c4852e3642e0b840740@http://tportal.tomas.travel/biosphaerengebietschwarzwald/event/ics/2775655/2026-04-30
DTSTAMP:20260420T111434Z
DTSTART:20260430T200000
DTEND:20260430T200000
LOCATION: Aitern
SUMMARY:Tanz in den Mai
END:VEVENT
END:VCALENDAR