BEGIN:VCALENDAR
PRODID:-//Microsoft Corporation//Outlook 11.0 MIMEDIR//EN
VERSION:2.0
METHOD:PUBLISH
BEGIN:VEVENT
UID:ef890af996b309a42edeb8fc26e6dbe2@http://tportal.tomas.travel/badorb/event/ics/2769000/2026-04-12
DTSTAMP:20260420T135723Z
DTEND;VALUE=DATE:19700101
DTSTART;VALUE=DATE:19700101
LOCATION:Konzerthalle / Theatersaal Bad Orb
SUMMARY:Schlager & Spaß mit Andy Borg und Gästen
END:VEVENT
END:VCALENDAR